BEGIN:VCALENDAR
VERSION:2.0
PRODID:-//Ober-Bessingen - ECPv6.15.15//NONSGML v1.0//EN
CALSCALE:GREGORIAN
METHOD:PUBLISH
X-ORIGINAL-URL:https://www.ober-bessingen.de
X-WR-CALDESC:Veranstaltungen für Ober-Bessingen
REFRESH-INTERVAL;VALUE=DURATION:PT1H
X-Robots-Tag:noindex
X-PUBLISHED-TTL:PT1H
BEGIN:VTIMEZONE
TZID:Europe/Berlin
BEGIN:DAYLIGHT
TZOFFSETFROM:+0100
TZOFFSETTO:+0200
TZNAME:CEST
DTSTART:20210328T010000
END:DAYLIGHT
BEGIN:STANDARD
TZOFFSETFROM:+0200
TZOFFSETTO:+0100
TZNAME:CET
DTSTART:20211031T010000
END:STANDARD
BEGIN:DAYLIGHT
TZOFFSETFROM:+0100
TZOFFSETTO:+0200
TZNAME:CEST
DTSTART:20220327T010000
END:DAYLIGHT
BEGIN:STANDARD
TZOFFSETFROM:+0200
TZOFFSETTO:+0100
TZNAME:CET
DTSTART:20221030T010000
END:STANDARD
BEGIN:DAYLIGHT
TZOFFSETFROM:+0100
TZOFFSETTO:+0200
TZNAME:CEST
DTSTART:20230326T010000
END:DAYLIGHT
BEGIN:STANDARD
TZOFFSETFROM:+0200
TZOFFSETTO:+0100
TZNAME:CET
DTSTART:20231029T010000
END:STANDARD
END:VTIMEZONE
BEGIN:VEVENT
DTSTART;TZID=Europe/Berlin:20220401T200000
DTEND;TZID=Europe/Berlin:20220401T200000
DTSTAMP:20260423T220513
CREATED:20220425T220407Z
LAST-MODIFIED:20220425T222337Z
UID:657-1648843200-1648843200@www.ober-bessingen.de
SUMMARY:Jahreshauptversammlung
DESCRIPTION:
URL:https://www.ober-bessingen.de/veranstaltung/jahreshauptversammlung-4/
LOCATION:Dorfgemeinschaftshaus\, An der Pforte 5\, Ober-Bessingen\, 35423
END:VEVENT
BEGIN:VEVENT
DTSTART;TZID=Europe/Berlin:20220408T193000
DTEND;TZID=Europe/Berlin:20220408T193000
DTSTAMP:20260423T220513
CREATED:20220425T220421Z
LAST-MODIFIED:20220425T222352Z
UID:658-1649446200-1649446200@www.ober-bessingen.de
SUMMARY:Jahreshauptversammlung
DESCRIPTION:
URL:https://www.ober-bessingen.de/veranstaltung/jahreshauptversammlung-5/
LOCATION:Dorfgemeinschaftshaus\, An der Pforte 5\, Ober-Bessingen\, 35423
END:VEVENT
BEGIN:VEVENT
DTSTART;TZID=Europe/Berlin:20220417T053000
DTEND;TZID=Europe/Berlin:20220417T053000
DTSTAMP:20260423T220513
CREATED:20220425T220422Z
LAST-MODIFIED:20220425T222353Z
UID:659-1650173400-1650173400@www.ober-bessingen.de
SUMMARY:Osterpilgern
DESCRIPTION:
URL:https://www.ober-bessingen.de/veranstaltung/osterpilgern-4/
LOCATION:Gemeindehaus\, An der Pforte 17\, Ober-Bessingen\, 35423
END:VEVENT
END:VCALENDAR