BEGIN:VCALENDAR
VERSION:2.0
PRODID:-//Ober-Bessingen - ECPv6.15.15//NONSGML v1.0//EN
CALSCALE:GREGORIAN
METHOD:PUBLISH
X-WR-CALNAME:Ober-Bessingen
X-ORIGINAL-URL:https://www.ober-bessingen.de
X-WR-CALDESC:Veranstaltungen für Ober-Bessingen
REFRESH-INTERVAL;VALUE=DURATION:PT1H
X-Robots-Tag:noindex
X-PUBLISHED-TTL:PT1H
BEGIN:VTIMEZONE
TZID:Europe/Berlin
BEGIN:DAYLIGHT
TZOFFSETFROM:+0100
TZOFFSETTO:+0200
TZNAME:CEST
DTSTART:20210328T010000
END:DAYLIGHT
BEGIN:STANDARD
TZOFFSETFROM:+0200
TZOFFSETTO:+0100
TZNAME:CET
DTSTART:20211031T010000
END:STANDARD
BEGIN:DAYLIGHT
TZOFFSETFROM:+0100
TZOFFSETTO:+0200
TZNAME:CEST
DTSTART:20220327T010000
END:DAYLIGHT
BEGIN:STANDARD
TZOFFSETFROM:+0200
TZOFFSETTO:+0100
TZNAME:CET
DTSTART:20221030T010000
END:STANDARD
BEGIN:DAYLIGHT
TZOFFSETFROM:+0100
TZOFFSETTO:+0200
TZNAME:CEST
DTSTART:20230326T010000
END:DAYLIGHT
BEGIN:STANDARD
TZOFFSETFROM:+0200
TZOFFSETTO:+0100
TZNAME:CET
DTSTART:20231029T010000
END:STANDARD
END:VTIMEZONE
BEGIN:VEVENT
DTSTART;TZID=Europe/Berlin:20220501T110000
DTEND;TZID=Europe/Berlin:20220501T110000
DTSTAMP:20260423T202741
CREATED:20220425T220422Z
LAST-MODIFIED:20220425T222353Z
UID:660-1651402800-1651402800@www.ober-bessingen.de
SUMMARY:Maifeier
DESCRIPTION:
URL:https://www.ober-bessingen.de/veranstaltung/maifeier-2/
LOCATION:Alte Kirche\, Ober-Bessingen\, 35423
END:VEVENT
BEGIN:VEVENT
DTSTART;TZID=Europe/Berlin:20220507T140000
DTEND;TZID=Europe/Berlin:20220507T140000
DTSTAMP:20260423T202741
CREATED:20220425T220422Z
LAST-MODIFIED:20220425T222353Z
UID:661-1651932000-1651932000@www.ober-bessingen.de
SUMMARY:Pilgern
DESCRIPTION:
URL:https://www.ober-bessingen.de/veranstaltung/pilgern/
LOCATION:Pforte\, An der Pforte 1\, Ober-Bessingen\, 35423
END:VEVENT
BEGIN:VEVENT
DTSTART;TZID=Europe/Berlin:20220514T170000
DTEND;TZID=Europe/Berlin:20220514T170000
DTSTAMP:20260423T202741
CREATED:20220425T220423Z
LAST-MODIFIED:20220425T222353Z
UID:662-1652547600-1652547600@www.ober-bessingen.de
SUMMARY:Einweihung Florianshütte
DESCRIPTION:
URL:https://www.ober-bessingen.de/veranstaltung/einweihung-florianshuette-2/
LOCATION:Florianshütte\, Ober-Bessingen
END:VEVENT
BEGIN:VEVENT
DTSTART;TZID=Europe/Berlin:20220515T100000
DTEND;TZID=Europe/Berlin:20220515T100000
DTSTAMP:20260423T202741
CREATED:20220425T220435Z
LAST-MODIFIED:20220425T222406Z
UID:663-1652608800-1652608800@www.ober-bessingen.de
SUMMARY:Konfirmation
DESCRIPTION:
URL:https://www.ober-bessingen.de/veranstaltung/konfirmation-3/
LOCATION:Kirche\, Ober-Bessingen
END:VEVENT
BEGIN:VEVENT
DTSTART;TZID=Europe/Berlin:20220520T200000
DTEND;TZID=Europe/Berlin:20220520T200000
DTSTAMP:20260423T202741
CREATED:20220425T220435Z
LAST-MODIFIED:20220425T222407Z
UID:664-1653076800-1653076800@www.ober-bessingen.de
SUMMARY:Jahreshauptversammlung
DESCRIPTION:
URL:https://www.ober-bessingen.de/veranstaltung/jahreshauptversammlung-6/
LOCATION:Florianshütte\, Ober-Bessingen
END:VEVENT
END:VCALENDAR