BEGIN:VCALENDAR
VERSION:2.0
PRODID:-//Ober-Bessingen - ECPv6.15.15//NONSGML v1.0//EN
CALSCALE:GREGORIAN
METHOD:PUBLISH
X-WR-CALNAME:Ober-Bessingen
X-ORIGINAL-URL:https://www.ober-bessingen.de
X-WR-CALDESC:Veranstaltungen für Ober-Bessingen
REFRESH-INTERVAL;VALUE=DURATION:PT1H
X-Robots-Tag:noindex
X-PUBLISHED-TTL:PT1H
BEGIN:VTIMEZONE
TZID:Europe/Berlin
BEGIN:DAYLIGHT
TZOFFSETFROM:+0100
TZOFFSETTO:+0200
TZNAME:CEST
DTSTART:20220327T010000
END:DAYLIGHT
BEGIN:STANDARD
TZOFFSETFROM:+0200
TZOFFSETTO:+0100
TZNAME:CET
DTSTART:20221030T010000
END:STANDARD
BEGIN:DAYLIGHT
TZOFFSETFROM:+0100
TZOFFSETTO:+0200
TZNAME:CEST
DTSTART:20230326T010000
END:DAYLIGHT
BEGIN:STANDARD
TZOFFSETFROM:+0200
TZOFFSETTO:+0100
TZNAME:CET
DTSTART:20231029T010000
END:STANDARD
BEGIN:DAYLIGHT
TZOFFSETFROM:+0100
TZOFFSETTO:+0200
TZNAME:CEST
DTSTART:20240331T010000
END:DAYLIGHT
BEGIN:STANDARD
TZOFFSETFROM:+0200
TZOFFSETTO:+0100
TZNAME:CET
DTSTART:20241027T010000
END:STANDARD
END:VTIMEZONE
BEGIN:VEVENT
DTSTART;TZID=Europe/Berlin:20230107T100000
DTEND;TZID=Europe/Berlin:20230107T100000
DTSTAMP:20260423T072203
CREATED:20230106T113720Z
LAST-MODIFIED:20230106T113720Z
UID:720-1673085600-1673085600@www.ober-bessingen.de
SUMMARY:Einsammeln Weihnachtsbäume
DESCRIPTION:
URL:https://www.ober-bessingen.de/veranstaltung/einsammeln-weihnachtsbaeume/
CATEGORIES:Allgemein
END:VEVENT
BEGIN:VEVENT
DTSTART;TZID=Europe/Berlin:20230108T110000
DTEND;TZID=Europe/Berlin:20230108T110000
DTSTAMP:20260423T072203
CREATED:20230106T113720Z
LAST-MODIFIED:20230106T114757Z
UID:721-1673175600-1673175600@www.ober-bessingen.de
SUMMARY:Ende Krippenweg 2022
DESCRIPTION:
URL:https://www.ober-bessingen.de/veranstaltung/ende-krippenweg-2022/
LOCATION:Eichbaum\, Ober-Bessingen
CATEGORIES:Allgemein
END:VEVENT
BEGIN:VEVENT
DTSTART;TZID=Europe/Berlin:20230114T150000
DTEND;TZID=Europe/Berlin:20230114T150000
DTSTAMP:20260423T072203
CREATED:20230106T113721Z
LAST-MODIFIED:20230106T113721Z
UID:722-1673708400-1673708400@www.ober-bessingen.de
SUMMARY:Winterwanderung
DESCRIPTION:
URL:https://www.ober-bessingen.de/veranstaltung/winterwanderung-5/
LOCATION:Feuerwehrgerätehaus\, Hässelsstraße 15\, Ober-Bessingen\, 35423
CATEGORIES:Allgemein
END:VEVENT
BEGIN:VEVENT
DTSTART;TZID=Europe/Berlin:20230115T180000
DTEND;TZID=Europe/Berlin:20230115T180000
DTSTAMP:20260423T072203
CREATED:20230106T113721Z
LAST-MODIFIED:20230106T113721Z
UID:723-1673805600-1673805600@www.ober-bessingen.de
SUMMARY:Neujahrsempfang
DESCRIPTION:
URL:https://www.ober-bessingen.de/veranstaltung/neujahrsempfang-5/
LOCATION:Kirche\, Ober-Bessingen
CATEGORIES:Allgemein
END:VEVENT
END:VCALENDAR