BEGIN:VCALENDAR
VERSION:2.0
PRODID:-//Ober-Bessingen - ECPv6.15.15//NONSGML v1.0//EN
CALSCALE:GREGORIAN
METHOD:PUBLISH
X-ORIGINAL-URL:https://www.ober-bessingen.de
X-WR-CALDESC:Veranstaltungen für Ober-Bessingen
REFRESH-INTERVAL;VALUE=DURATION:PT1H
X-Robots-Tag:noindex
X-PUBLISHED-TTL:PT1H
BEGIN:VTIMEZONE
TZID:Europe/Berlin
BEGIN:DAYLIGHT
TZOFFSETFROM:+0100
TZOFFSETTO:+0200
TZNAME:CEST
DTSTART:20220327T010000
END:DAYLIGHT
BEGIN:STANDARD
TZOFFSETFROM:+0200
TZOFFSETTO:+0100
TZNAME:CET
DTSTART:20221030T010000
END:STANDARD
BEGIN:DAYLIGHT
TZOFFSETFROM:+0100
TZOFFSETTO:+0200
TZNAME:CEST
DTSTART:20230326T010000
END:DAYLIGHT
BEGIN:STANDARD
TZOFFSETFROM:+0200
TZOFFSETTO:+0100
TZNAME:CET
DTSTART:20231029T010000
END:STANDARD
BEGIN:DAYLIGHT
TZOFFSETFROM:+0100
TZOFFSETTO:+0200
TZNAME:CEST
DTSTART:20240331T010000
END:DAYLIGHT
BEGIN:STANDARD
TZOFFSETFROM:+0200
TZOFFSETTO:+0100
TZNAME:CET
DTSTART:20241027T010000
END:STANDARD
END:VTIMEZONE
BEGIN:VEVENT
DTSTART;TZID=Europe/Berlin:20230217T200000
DTEND;TZID=Europe/Berlin:20230217T200000
DTSTAMP:20260423T053704
CREATED:20230106T113722Z
LAST-MODIFIED:20230106T113722Z
UID:724-1676664000-1676664000@www.ober-bessingen.de
SUMMARY:Jahreshauptversammlung Freiwillige Feuerwehr
DESCRIPTION:
URL:https://www.ober-bessingen.de/veranstaltung/jahreshauptversammlung-freiwillige-feuerwehr-2/
LOCATION:Dorfgemeinschaftshaus\, An der Pforte 5\, Ober-Bessingen\, 35423
CATEGORIES:Allgemein
END:VEVENT
BEGIN:VEVENT
DTSTART;TZID=Europe/Berlin:20230218T150000
DTEND;TZID=Europe/Berlin:20230218T150000
DTSTAMP:20260423T053704
CREATED:20230106T113724Z
LAST-MODIFIED:20230106T113724Z
UID:725-1676732400-1676732400@www.ober-bessingen.de
SUMMARY:Kräppelkaffee
DESCRIPTION:
URL:https://www.ober-bessingen.de/veranstaltung/kraeppelkaffee-5/
LOCATION:Gemeindehaus\, An der Pforte 17\, Ober-Bessingen\, 35423
CATEGORIES:Allgemein
END:VEVENT
BEGIN:VEVENT
DTSTART;TZID=Europe/Berlin:20230221T141100
DTEND;TZID=Europe/Berlin:20230221T141100
DTSTAMP:20260423T053704
CREATED:20230106T113725Z
LAST-MODIFIED:20230106T113725Z
UID:726-1676988660-1676988660@www.ober-bessingen.de
SUMMARY:Kinderfasching
DESCRIPTION:
URL:https://www.ober-bessingen.de/veranstaltung/kinderfasching-5/
LOCATION:Dorfgemeinschaftshaus\, An der Pforte 5\, Ober-Bessingen\, 35423
CATEGORIES:Allgemein
END:VEVENT
END:VCALENDAR