BEGIN:VCALENDAR
VERSION:2.0
PRODID:-//Ober-Bessingen - ECPv6.15.15//NONSGML v1.0//EN
CALSCALE:GREGORIAN
METHOD:PUBLISH
X-WR-CALNAME:Ober-Bessingen
X-ORIGINAL-URL:https://www.ober-bessingen.de
X-WR-CALDESC:Veranstaltungen für Ober-Bessingen
REFRESH-INTERVAL;VALUE=DURATION:PT1H
X-Robots-Tag:noindex
X-PUBLISHED-TTL:PT1H
BEGIN:VTIMEZONE
TZID:Europe/Berlin
BEGIN:DAYLIGHT
TZOFFSETFROM:+0100
TZOFFSETTO:+0200
TZNAME:CEST
DTSTART:20220327T010000
END:DAYLIGHT
BEGIN:STANDARD
TZOFFSETFROM:+0200
TZOFFSETTO:+0100
TZNAME:CET
DTSTART:20221030T010000
END:STANDARD
BEGIN:DAYLIGHT
TZOFFSETFROM:+0100
TZOFFSETTO:+0200
TZNAME:CEST
DTSTART:20230326T010000
END:DAYLIGHT
BEGIN:STANDARD
TZOFFSETFROM:+0200
TZOFFSETTO:+0100
TZNAME:CET
DTSTART:20231029T010000
END:STANDARD
BEGIN:DAYLIGHT
TZOFFSETFROM:+0100
TZOFFSETTO:+0200
TZNAME:CEST
DTSTART:20240331T010000
END:DAYLIGHT
BEGIN:STANDARD
TZOFFSETFROM:+0200
TZOFFSETTO:+0100
TZNAME:CET
DTSTART:20241027T010000
END:STANDARD
END:VTIMEZONE
BEGIN:VEVENT
DTSTART;TZID=Europe/Berlin:20230909T150000
DTEND;TZID=Europe/Berlin:20230909T150000
DTSTAMP:20260422T170502
CREATED:20230106T113810Z
LAST-MODIFIED:20230106T113810Z
UID:741-1694271600-1694271600@www.ober-bessingen.de
SUMMARY:Jugendfeier
DESCRIPTION:
URL:https://www.ober-bessingen.de/veranstaltung/jugendfeier/
LOCATION:Florianshütte\, Ober-Bessingen
CATEGORIES:Allgemein
END:VEVENT
BEGIN:VEVENT
DTSTART;TZID=Europe/Berlin:20230924T110000
DTEND;TZID=Europe/Berlin:20230924T110000
DTSTAMP:20260422T170502
CREATED:20230106T113811Z
LAST-MODIFIED:20230106T113811Z
UID:742-1695553200-1695553200@www.ober-bessingen.de
SUMMARY:Mostfest
DESCRIPTION:
URL:https://www.ober-bessingen.de/veranstaltung/mostfest-5/
LOCATION:Dorfgemeinschaftshaus\, An der Pforte 5\, Ober-Bessingen\, 35423
CATEGORIES:Allgemein
END:VEVENT
BEGIN:VEVENT
DTSTART;TZID=Europe/Berlin:20230930T000000
DTEND;TZID=Europe/Berlin:20231002T000000
DTSTAMP:20260422T170502
CREATED:20230106T113811Z
LAST-MODIFIED:20230106T113811Z
UID:743-1696032000-1696204800@www.ober-bessingen.de
SUMMARY:Ausflug der Feuerwehr
DESCRIPTION:
URL:https://www.ober-bessingen.de/veranstaltung/ausflug-der-feuerwehr/
LOCATION:Feuerwehrgerätehaus\, Hässelsstraße 15\, Ober-Bessingen\, 35423
CATEGORIES:Allgemein
END:VEVENT
END:VCALENDAR