BEGIN:VCALENDAR
VERSION:2.0
PRODID:-//Ober-Bessingen - ECPv6.15.15//NONSGML v1.0//EN
CALSCALE:GREGORIAN
METHOD:PUBLISH
X-ORIGINAL-URL:https://www.ober-bessingen.de
X-WR-CALDESC:Veranstaltungen für Ober-Bessingen
REFRESH-INTERVAL;VALUE=DURATION:PT1H
X-Robots-Tag:noindex
X-PUBLISHED-TTL:PT1H
BEGIN:VTIMEZONE
TZID:Europe/Berlin
BEGIN:DAYLIGHT
TZOFFSETFROM:+0100
TZOFFSETTO:+0200
TZNAME:CEST
DTSTART:20240331T010000
END:DAYLIGHT
BEGIN:STANDARD
TZOFFSETFROM:+0200
TZOFFSETTO:+0100
TZNAME:CET
DTSTART:20241027T010000
END:STANDARD
BEGIN:DAYLIGHT
TZOFFSETFROM:+0100
TZOFFSETTO:+0200
TZNAME:CEST
DTSTART:20250330T010000
END:DAYLIGHT
BEGIN:STANDARD
TZOFFSETFROM:+0200
TZOFFSETTO:+0100
TZNAME:CET
DTSTART:20251026T010000
END:STANDARD
BEGIN:DAYLIGHT
TZOFFSETFROM:+0100
TZOFFSETTO:+0200
TZNAME:CEST
DTSTART:20260329T010000
END:DAYLIGHT
BEGIN:STANDARD
TZOFFSETFROM:+0200
TZOFFSETTO:+0100
TZNAME:CET
DTSTART:20261025T010000
END:STANDARD
END:VTIMEZONE
BEGIN:VEVENT
DTSTART;TZID=Europe/Berlin:20251114T193000
DTEND;TZID=Europe/Berlin:20251114T193000
DTSTAMP:20260420T182959
CREATED:20241214T113819Z
LAST-MODIFIED:20241214T113819Z
UID:830-1763148600-1763148600@www.ober-bessingen.de
SUMMARY:Gemeinsame Sitzung aller Vorstände
DESCRIPTION:
URL:https://www.ober-bessingen.de/veranstaltung/gemeinsame-sitzung-aller-vorstaende-4/
LOCATION:Pforte\, An der Pforte 1\, Ober-Bessingen\, 35423
END:VEVENT
BEGIN:VEVENT
DTSTART;TZID=Europe/Berlin:20251115T190000
DTEND;TZID=Europe/Berlin:20251115T190000
DTSTAMP:20260420T182959
CREATED:20241214T113820Z
LAST-MODIFIED:20241214T113820Z
UID:831-1763233200-1763233200@www.ober-bessingen.de
SUMMARY:Weinprobe
DESCRIPTION:
URL:https://www.ober-bessingen.de/veranstaltung/weinprobe-3/
LOCATION:Feuerwehrgerätehaus\, Hässelsstraße 15\, Ober-Bessingen\, 35423
END:VEVENT
BEGIN:VEVENT
DTSTART;TZID=Europe/Berlin:20251116T100000
DTEND;TZID=Europe/Berlin:20251116T100000
DTSTAMP:20260420T182959
CREATED:20241214T113820Z
LAST-MODIFIED:20241214T113820Z
UID:832-1763287200-1763287200@www.ober-bessingen.de
SUMMARY:Gedenkfeier zum Volkstrauertag
DESCRIPTION:
URL:https://www.ober-bessingen.de/veranstaltung/gedenkfeier-zum-volkstrauertag-4/
LOCATION:Friedhof\, Ober-Bessingen
END:VEVENT
BEGIN:VEVENT
DTSTART;TZID=Europe/Berlin:20251130T160000
DTEND;TZID=Europe/Berlin:20251130T160000
DTSTAMP:20260420T182959
CREATED:20241214T113829Z
LAST-MODIFIED:20241214T113829Z
UID:833-1764518400-1764518400@www.ober-bessingen.de
SUMMARY:Eröffnung Krippenweg 2025
DESCRIPTION:
URL:https://www.ober-bessingen.de/veranstaltung/eroeffnung-krippenweg-2025/
LOCATION:Eichbaum\, Ober-Bessingen
END:VEVENT
END:VCALENDAR