BEGIN:VCALENDAR
VERSION:2.0
PRODID:-//Ober-Bessingen - ECPv6.15.15//NONSGML v1.0//EN
CALSCALE:GREGORIAN
METHOD:PUBLISH
X-WR-CALNAME:Ober-Bessingen
X-ORIGINAL-URL:https://www.ober-bessingen.de
X-WR-CALDESC:Veranstaltungen für Ober-Bessingen
REFRESH-INTERVAL;VALUE=DURATION:PT1H
X-Robots-Tag:noindex
X-PUBLISHED-TTL:PT1H
BEGIN:VTIMEZONE
TZID:Europe/Berlin
BEGIN:DAYLIGHT
TZOFFSETFROM:+0100
TZOFFSETTO:+0200
TZNAME:CEST
DTSTART:20240331T010000
END:DAYLIGHT
BEGIN:STANDARD
TZOFFSETFROM:+0200
TZOFFSETTO:+0100
TZNAME:CET
DTSTART:20241027T010000
END:STANDARD
BEGIN:DAYLIGHT
TZOFFSETFROM:+0100
TZOFFSETTO:+0200
TZNAME:CEST
DTSTART:20250330T010000
END:DAYLIGHT
BEGIN:STANDARD
TZOFFSETFROM:+0200
TZOFFSETTO:+0100
TZNAME:CET
DTSTART:20251026T010000
END:STANDARD
BEGIN:DAYLIGHT
TZOFFSETFROM:+0100
TZOFFSETTO:+0200
TZNAME:CEST
DTSTART:20260329T010000
END:DAYLIGHT
BEGIN:STANDARD
TZOFFSETFROM:+0200
TZOFFSETTO:+0100
TZNAME:CET
DTSTART:20261025T010000
END:STANDARD
END:VTIMEZONE
BEGIN:VEVENT
DTSTART;TZID=Europe/Berlin:20251213T150000
DTEND;TZID=Europe/Berlin:20251213T150000
DTSTAMP:20260420T164206
CREATED:20241214T113829Z
LAST-MODIFIED:20241214T113829Z
UID:834-1765638000-1765638000@www.ober-bessingen.de
SUMMARY:Adventskaffee
DESCRIPTION:
URL:https://www.ober-bessingen.de/veranstaltung/adventskaffee-5/
LOCATION:Gemeindehaus\, An der Pforte 17\, Ober-Bessingen\, 35423
END:VEVENT
BEGIN:VEVENT
DTSTART;TZID=Europe/Berlin:20251227T150000
DTEND;TZID=Europe/Berlin:20251227T150000
DTSTAMP:20260420T164206
CREATED:20241214T113830Z
LAST-MODIFIED:20241214T113830Z
UID:835-1766847600-1766847600@www.ober-bessingen.de
SUMMARY:Brezelwürfeln
DESCRIPTION:
URL:https://www.ober-bessingen.de/veranstaltung/brezelwuerfeln/
LOCATION:Gemeindehaus\, An der Pforte 17\, Ober-Bessingen\, 35423
END:VEVENT
END:VCALENDAR