BEGIN:VCALENDAR
VERSION:2.0
PRODID:-//Ober-Bessingen - ECPv6.15.15//NONSGML v1.0//EN
CALSCALE:GREGORIAN
METHOD:PUBLISH
X-ORIGINAL-URL:https://www.ober-bessingen.de
X-WR-CALDESC:Veranstaltungen für Ober-Bessingen
REFRESH-INTERVAL;VALUE=DURATION:PT1H
X-Robots-Tag:noindex
X-PUBLISHED-TTL:PT1H
BEGIN:VTIMEZONE
TZID:Europe/Berlin
BEGIN:DAYLIGHT
TZOFFSETFROM:+0100
TZOFFSETTO:+0200
TZNAME:CEST
DTSTART:20250330T010000
END:DAYLIGHT
BEGIN:STANDARD
TZOFFSETFROM:+0200
TZOFFSETTO:+0100
TZNAME:CET
DTSTART:20251026T010000
END:STANDARD
BEGIN:DAYLIGHT
TZOFFSETFROM:+0100
TZOFFSETTO:+0200
TZNAME:CEST
DTSTART:20260329T010000
END:DAYLIGHT
BEGIN:STANDARD
TZOFFSETFROM:+0200
TZOFFSETTO:+0100
TZNAME:CET
DTSTART:20261025T010000
END:STANDARD
BEGIN:DAYLIGHT
TZOFFSETFROM:+0100
TZOFFSETTO:+0200
TZNAME:CEST
DTSTART:20270328T010000
END:DAYLIGHT
BEGIN:STANDARD
TZOFFSETFROM:+0200
TZOFFSETTO:+0100
TZNAME:CET
DTSTART:20271031T010000
END:STANDARD
END:VTIMEZONE
BEGIN:VEVENT
DTSTART;TZID=Europe/Berlin:20260110T100000
DTEND;TZID=Europe/Berlin:20260110T100000
DTSTAMP:20260420T150504
CREATED:20251216T203913Z
LAST-MODIFIED:20251216T203913Z
UID:845-1768039200-1768039200@www.ober-bessingen.de
SUMMARY:Einsammeln Weihnachtsbäume
DESCRIPTION:
URL:https://www.ober-bessingen.de/veranstaltung/einsammeln-weihnachtsbaeume-2/
LOCATION:Eichbaum\, Ober-Bessingen
END:VEVENT
BEGIN:VEVENT
DTSTART;TZID=Europe/Berlin:20260111T110000
DTEND;TZID=Europe/Berlin:20260111T110000
DTSTAMP:20260420T150504
CREATED:20251216T203913Z
LAST-MODIFIED:20251216T203913Z
UID:846-1768129200-1768129200@www.ober-bessingen.de
SUMMARY:Ende Krippenweg 2025
DESCRIPTION:
URL:https://www.ober-bessingen.de/veranstaltung/ende-krippenweg-2025/
LOCATION:Eichbaum\, Ober-Bessingen
END:VEVENT
BEGIN:VEVENT
DTSTART;TZID=Europe/Berlin:20260117T150000
DTEND;TZID=Europe/Berlin:20260117T150000
DTSTAMP:20260420T150504
CREATED:20251216T203913Z
LAST-MODIFIED:20251216T203913Z
UID:847-1768662000-1768662000@www.ober-bessingen.de
SUMMARY:Winterwanderung
DESCRIPTION:
URL:https://www.ober-bessingen.de/veranstaltung/winterwanderung-7/
LOCATION:Feuerwehrgerätehaus\, Hässelsstraße 15\, Ober-Bessingen\, 35423
END:VEVENT
BEGIN:VEVENT
DTSTART;TZID=Europe/Berlin:20260118T170000
DTEND;TZID=Europe/Berlin:20260118T170000
DTSTAMP:20260420T150504
CREATED:20251216T203913Z
LAST-MODIFIED:20251216T203913Z
UID:848-1768755600-1768755600@www.ober-bessingen.de
SUMMARY:Neujahrsempfang
DESCRIPTION:
URL:https://www.ober-bessingen.de/veranstaltung/neujahrsempfang-7/
LOCATION:Kirche\, Ober-Bessingen
END:VEVENT
END:VCALENDAR